BEGIN:VCALENDAR
VERSION:2.0
PRODID:-//Chattanooga - ECPv6.15.20//NONSGML v1.0//EN
CALSCALE:GREGORIAN
METHOD:PUBLISH
X-WR-CALNAME:Chattanooga
X-ORIGINAL-URL:https://chattanooga.cisvusa.org
X-WR-CALDESC:Events for Chattanooga
REFRESH-INTERVAL;VALUE=DURATION:PT1H
X-Robots-Tag:noindex
X-PUBLISHED-TTL:PT1H
BEGIN:VTIMEZONE
TZID:America/New_York
BEGIN:DAYLIGHT
TZOFFSETFROM:-0500
TZOFFSETTO:-0400
TZNAME:EDT
DTSTART:20220313T070000
END:DAYLIGHT
BEGIN:STANDARD
TZOFFSETFROM:-0400
TZOFFSETTO:-0500
TZNAME:EST
DTSTART:20221106T060000
END:STANDARD
BEGIN:DAYLIGHT
TZOFFSETFROM:-0500
TZOFFSETTO:-0400
TZNAME:EDT
DTSTART:20230312T070000
END:DAYLIGHT
BEGIN:STANDARD
TZOFFSETFROM:-0400
TZOFFSETTO:-0500
TZNAME:EST
DTSTART:20231105T060000
END:STANDARD
BEGIN:DAYLIGHT
TZOFFSETFROM:-0500
TZOFFSETTO:-0400
TZNAME:EDT
DTSTART:20240310T070000
END:DAYLIGHT
BEGIN:STANDARD
TZOFFSETFROM:-0400
TZOFFSETTO:-0500
TZNAME:EST
DTSTART:20241103T060000
END:STANDARD
BEGIN:DAYLIGHT
TZOFFSETFROM:-0500
TZOFFSETTO:-0400
TZNAME:EDT
DTSTART:20250309T070000
END:DAYLIGHT
BEGIN:STANDARD
TZOFFSETFROM:-0400
TZOFFSETTO:-0500
TZNAME:EST
DTSTART:20251102T060000
END:STANDARD
BEGIN:DAYLIGHT
TZOFFSETFROM:-0500
TZOFFSETTO:-0400
TZNAME:EDT
DTSTART:20260308T070000
END:DAYLIGHT
BEGIN:STANDARD
TZOFFSETFROM:-0400
TZOFFSETTO:-0500
TZNAME:EST
DTSTART:20261101T060000
END:STANDARD
END:VTIMEZONE
BEGIN:VEVENT
DTSTART;TZID=America/New_York:20230512T120000
DTEND;TZID=America/New_York:20230512T180000
DTSTAMP:20260420T184724
CREATED:20190403T171210Z
LAST-MODIFIED:20230329T202930Z
UID:311-1683892800-1683914400@chattanooga.cisvusa.org
SUMMARY:Par for Peace 2023
DESCRIPTION:We can’t wait for you to join us May 12\, 2023 for another day of the greatest game ever played!\n100% of proceeds from this tournament will go towards helping our local CISV Chattanooga chapter’s educational programs for children!\n\nPar for Peace 2023\, Annual Golf Tournament benefiting CISV Chattanooga \nMay 12\, 2023\, The Bear Trace at Harrison Bay \nSign up below to participate: \nPar for Peace 2023 Sign Up \nIndividual Player -$125\nTeam of 4 Players- $500\nHole Sponsor -$300\nCart Sponsor- $150 \n*Player Registration deadline is Friday\, May 5\, 2023.* \n**Cart/Hole Sponsorship deadline is Friday\, April 29\, 2023** \nGolf Tournament Flyer and Registration and Hole Sponsorship 2023
URL:https://chattanooga.cisvusa.org/event/par-for-peace/
LOCATION:The Bear Trace at Harrison Bay\, 8919 Harrison Bay Road\, Harrison\, TN\, 37341
ATTACH;FMTTYPE=image/png:https://chattanooga.cisvusa.org/wp-content/uploads/sites/31/2019/04/parforpeace.png
ORGANIZER;CN="CISV Chattanooga":MAILTO:cisvchattanooga@gmail.com
GEO:35.200328;-85.1091405
X-APPLE-STRUCTURED-LOCATION;VALUE=URI;X-ADDRESS=The Bear Trace at Harrison Bay 8919 Harrison Bay Road Harrison TN 37341;X-APPLE-RADIUS=500;X-TITLE=8919 Harrison Bay Road:geo:-85.1091405,35.200328
END:VEVENT
BEGIN:VEVENT
DTSTART;TZID=America/New_York:20240119T190000
DTEND;TZID=America/New_York:20240121T113000
DTSTAMP:20260420T184724
CREATED:20221113T010011Z
LAST-MODIFIED:20240102T214530Z
UID:1317-1705690800-1705836600@chattanooga.cisvusa.org
SUMMARY:Mini Camp 2024
DESCRIPTION:CISV Chattanooga will be hosting Mini Camp January 19-21\, 2024.\n$120-on time registration fee\n$140-late registration fee \nPay Registration Fee
URL:https://chattanooga.cisvusa.org/event/mini-camp-2024/
LOCATION:TN
END:VEVENT
BEGIN:VEVENT
DTSTART;TZID=America/New_York:20240503T120000
DTEND;TZID=America/New_York:20240503T180000
DTSTAMP:20260420T184724
CREATED:20240318T183310Z
LAST-MODIFIED:20240318T183310Z
UID:1363-1714737600-1714759200@chattanooga.cisvusa.org
SUMMARY:Par for Peace 2024
DESCRIPTION:We can’t wait for you to join us May 3\, 2024 for another day of the greatest game ever played!\n100% of proceeds from this tournament will go towards helping our local CISV Chattanooga chapter’s educational programs for children!\n\nPar for Peace 2024 | Annual Golf Tournament benefiting CISV Chattanooga \nMay 3\, 2024 | The Bear Trace at Harrison Bay \nSign up below to participate: \nPar for Peace 2024 Sign Up \nIndividual Player – $125\nTeam of 4 Players – $500\nHole Sponsor – $400\nCart Sponsor – $200 \n*Player Registration deadline is Friday\, April 26th\, 2024.* \n**Cart/Hole Sponsorship deadline is Friday\, April 26th\, 2024** \nGolf Tournament Flyer 2024
URL:https://chattanooga.cisvusa.org/event/par-for-peace-2024/
LOCATION:The Bear Trace at Harrison Bay\, 8919 Harrison Bay Road\, Harrison\, TN\, 37341
GEO:35.200328;-85.1091405
X-APPLE-STRUCTURED-LOCATION;VALUE=URI;X-ADDRESS=The Bear Trace at Harrison Bay 8919 Harrison Bay Road Harrison TN 37341;X-APPLE-RADIUS=500;X-TITLE=8919 Harrison Bay Road:geo:-85.1091405,35.200328
END:VEVENT
BEGIN:VEVENT
DTSTART;TZID=America/New_York:20250509T130000
DTEND;TZID=America/New_York:20250509T180000
DTSTAMP:20260420T184724
CREATED:20250327T104702Z
LAST-MODIFIED:20250327T215639Z
UID:1403-1746795600-1746813600@chattanooga.cisvusa.org
SUMMARY:Par for Peace 2025
DESCRIPTION:We can’t wait for you to join us May 9\, 2025 for another day of the greatest game ever played!\n100% of proceeds from this tournament will go towards helping our local CISV Chattanooga chapter’s educational programs for children!\n\nPar for Peace 2025 | Annual Golf Tournament benefiting CISV Chattanooga \nMay 9\, 2025 | The Bear Trace at Harrison Bay \nSign up below to participate: \nPar for Peace 2025 Sign Up \nIndividual Player – $125\nTeam of 4 Players – $500\nHole Sponsor – $400\nCart Sponsor – $200 \n*Player Registration deadline is Friday\, May 2nd\, 2025.* \n**Cart/Hole Sponsorship deadline is Friday\, May 2nd\, 2025** \nPar for Peace Flyer 2025 \nPar for Peace Donation Letter 2025 \n 
URL:https://chattanooga.cisvusa.org/event/par-for-peace-2025/
LOCATION:The Bear Trace at Harrison Bay\, 8919 Harrison Bay Road\, Harrison\, TN\, 37341
ATTACH;FMTTYPE=image/png:https://chattanooga.cisvusa.org/wp-content/uploads/sites/31/2025/03/Screenshot-2025-03-27-at-6.53.00 AM.png
GEO:35.200328;-85.1091405
X-APPLE-STRUCTURED-LOCATION;VALUE=URI;X-ADDRESS=The Bear Trace at Harrison Bay 8919 Harrison Bay Road Harrison TN 37341;X-APPLE-RADIUS=500;X-TITLE=8919 Harrison Bay Road:geo:-85.1091405,35.200328
END:VEVENT
END:VCALENDAR